BEGIN:VCALENDAR
VERSION:2.0
PRODID:-//Berdesia - ECPv6.15.12.2//NONSGML v1.0//EN
CALSCALE:GREGORIAN
METHOD:PUBLISH
X-ORIGINAL-URL:https://berdesia.com
X-WR-CALDESC:Eventos para Berdesia
REFRESH-INTERVAL;VALUE=DURATION:PT1H
X-Robots-Tag:noindex
X-PUBLISHED-TTL:PT1H
BEGIN:VTIMEZONE
TZID:Europe/Paris
BEGIN:DAYLIGHT
TZOFFSETFROM:+0100
TZOFFSETTO:+0200
TZNAME:CEST
DTSTART:20200329T010000
END:DAYLIGHT
BEGIN:STANDARD
TZOFFSETFROM:+0200
TZOFFSETTO:+0100
TZNAME:CET
DTSTART:20201025T010000
END:STANDARD
BEGIN:DAYLIGHT
TZOFFSETFROM:+0100
TZOFFSETTO:+0200
TZNAME:CEST
DTSTART:20210328T010000
END:DAYLIGHT
BEGIN:STANDARD
TZOFFSETFROM:+0200
TZOFFSETTO:+0100
TZNAME:CET
DTSTART:20211031T010000
END:STANDARD
BEGIN:DAYLIGHT
TZOFFSETFROM:+0100
TZOFFSETTO:+0200
TZNAME:CEST
DTSTART:20220327T010000
END:DAYLIGHT
BEGIN:STANDARD
TZOFFSETFROM:+0200
TZOFFSETTO:+0100
TZNAME:CET
DTSTART:20221030T010000
END:STANDARD
END:VTIMEZONE
BEGIN:VEVENT
DTSTART;TZID=Europe/Paris:20210227T103000
DTEND;TZID=Europe/Paris:20210228T130000
DTSTAMP:20260423T181850
CREATED:20210114T222933Z
LAST-MODIFIED:20210211T130607Z
UID:5373-1614421800-1614517200@berdesia.com
SUMMARY:Plantaciones febrero
DESCRIPTION:Convocamos nuevas jornadas de plantaciones en Auzolan en la Gravera del Monte Plano de Tafalla. Plantaremos más de 2000 árboles en la zona\, que ya está delimitada para realizar los trabajos. \nLas inscripciones pueden realizarse en este formulario hasta esa misma semana.
URL:https://berdesia.com/evento/plantaciones-febrero/
LOCATION:Monte Plano (Tafalla)
ATTACH;FMTTYPE=image/png:https://berdesia.com/wp-content/uploads/2019/05/IMG_4807.png
END:VEVENT
END:VCALENDAR