BEGIN:VCALENDAR
VERSION:2.0
PRODID:-//Berdesia - ECPv6.15.12.2//NONSGML v1.0//EN
CALSCALE:GREGORIAN
METHOD:PUBLISH
X-WR-CALNAME:Berdesia
X-ORIGINAL-URL:https://berdesia.com
X-WR-CALDESC:Eventos para Berdesia
REFRESH-INTERVAL;VALUE=DURATION:PT1H
X-Robots-Tag:noindex
X-PUBLISHED-TTL:PT1H
BEGIN:VTIMEZONE
TZID:Europe/Paris
BEGIN:DAYLIGHT
TZOFFSETFROM:+0100
TZOFFSETTO:+0200
TZNAME:CEST
DTSTART:20210328T010000
END:DAYLIGHT
BEGIN:STANDARD
TZOFFSETFROM:+0200
TZOFFSETTO:+0100
TZNAME:CET
DTSTART:20211031T010000
END:STANDARD
BEGIN:DAYLIGHT
TZOFFSETFROM:+0100
TZOFFSETTO:+0200
TZNAME:CEST
DTSTART:20220327T010000
END:DAYLIGHT
BEGIN:STANDARD
TZOFFSETFROM:+0200
TZOFFSETTO:+0100
TZNAME:CET
DTSTART:20221030T010000
END:STANDARD
BEGIN:DAYLIGHT
TZOFFSETFROM:+0100
TZOFFSETTO:+0200
TZNAME:CEST
DTSTART:20230326T010000
END:DAYLIGHT
BEGIN:STANDARD
TZOFFSETFROM:+0200
TZOFFSETTO:+0100
TZNAME:CET
DTSTART:20231029T010000
END:STANDARD
END:VTIMEZONE
BEGIN:VEVENT
DTSTART;TZID=Europe/Paris:20220129T100000
DTEND;TZID=Europe/Paris:20220130T120000
DTSTAMP:20260420T233735
CREATED:20220126T221853Z
LAST-MODIFIED:20220126T222422Z
UID:5980-1643450400-1643544000@berdesia.com
SUMMARY:Plantaciones Enero 2022
DESCRIPTION:Hola !! Este fin de semana arrancamos la campaña 2022 !!\n\nSábado 29\, 10AM : Completaremos una de nuestras plantaciones en el Monte Plano (gravera al lado del Corral del Plano).\nUbicación\n\nDomingo 30\, 10AM:  Nueva plantación en la balsa situada en el camino viejo del cementerio (junto al nuevo puente en la variante Oeste).\nUbicación\n\nImportante: ¡¡Acordaos de traer vuestras azadas y guantes!!\n\nCualquier duda que tengáis\, no dudéis en preguntarnos. Como siempre\, os animamos a participar\, junto con amig@s y familiares.\nNos vemos !!
URL:https://berdesia.com/evento/plantaciones-enero-2022/
ATTACH;FMTTYPE=image/png:https://berdesia.com/wp-content/uploads/2019/05/IMG_4807.png
END:VEVENT
END:VCALENDAR