BEGIN:VCALENDAR
VERSION:2.0
PRODID:-//Berdesia - ECPv6.15.12.2//NONSGML v1.0//EN
CALSCALE:GREGORIAN
METHOD:PUBLISH
X-ORIGINAL-URL:https://berdesia.com
X-WR-CALDESC:Eventos para Berdesia
REFRESH-INTERVAL;VALUE=DURATION:PT1H
X-Robots-Tag:noindex
X-PUBLISHED-TTL:PT1H
BEGIN:VTIMEZONE
TZID:Europe/Paris
BEGIN:DAYLIGHT
TZOFFSETFROM:+0100
TZOFFSETTO:+0200
TZNAME:CEST
DTSTART:20200329T010000
END:DAYLIGHT
BEGIN:STANDARD
TZOFFSETFROM:+0200
TZOFFSETTO:+0100
TZNAME:CET
DTSTART:20201025T010000
END:STANDARD
BEGIN:DAYLIGHT
TZOFFSETFROM:+0100
TZOFFSETTO:+0200
TZNAME:CEST
DTSTART:20210328T010000
END:DAYLIGHT
BEGIN:STANDARD
TZOFFSETFROM:+0200
TZOFFSETTO:+0100
TZNAME:CET
DTSTART:20211031T010000
END:STANDARD
BEGIN:DAYLIGHT
TZOFFSETFROM:+0100
TZOFFSETTO:+0200
TZNAME:CEST
DTSTART:20220327T010000
END:DAYLIGHT
BEGIN:STANDARD
TZOFFSETFROM:+0200
TZOFFSETTO:+0100
TZNAME:CET
DTSTART:20221030T010000
END:STANDARD
END:VTIMEZONE
BEGIN:VEVENT
DTSTART;TZID=Europe/Paris:20210116T080000
DTEND;TZID=Europe/Paris:20210117T170000
DTSTAMP:20260423T181836
CREATED:20180716T114304Z
LAST-MODIFIED:20210211T125540Z
UID:327-1610784000-1610902800@berdesia.com
SUMMARY:Reunión de la Junta
DESCRIPTION:L@s integrantes de la Junta celebran la primera reunión del año para evaluar la marcha del proyecto y fijar las próximas fechas de plantaciones\, así como otros eventos.
URL:https://berdesia.com/evento/reunion/
LOCATION:Asociación Berdesia\, Tafalla\, Navarra\, 31300\, Spain
END:VEVENT
BEGIN:VEVENT
DTSTART;TZID=Europe/Paris:20210122T080000
DTEND;TZID=Europe/Paris:20210122T130000
DTSTAMP:20260423T181836
CREATED:20210114T224354Z
LAST-MODIFIED:20210211T125338Z
UID:5381-1611302400-1611320400@berdesia.com
SUMMARY:Acondicionamiento del vivero
DESCRIPTION:Acondicionamiento de nuestro vivero en el Corral de Chera junto a la Asociación de Jubilados San Sebastián de Tafalla.
URL:https://berdesia.com/evento/acondicionamiento-del-vivero/
LOCATION:Asociación Berdesia\, Tafalla\, Navarra\, 31300\, Spain
ATTACH;FMTTYPE=image/jpeg:https://berdesia.com/wp-content/uploads/2021/01/22-enero-2021.jpg
END:VEVENT
BEGIN:VEVENT
DTSTART;TZID=Europe/Paris:20210129T080000
DTEND;TZID=Europe/Paris:20210129T130000
DTSTAMP:20260423T181836
CREATED:20180716T113712Z
LAST-MODIFIED:20210211T125022Z
UID:321-1611907200-1611925200@berdesia.com
SUMMARY:Revisión de plantaciones
DESCRIPTION:Revisión y sustitución de marras en las plantaciones de La Pedrera y el Alto Las Cruces con la colaboración de voluntarios de la Asociación de Jubilados San Sebastián de Tafalla.
URL:https://berdesia.com/evento/national-environmental-festival-2018/
LOCATION:Asociación Berdesia\, Tafalla\, Navarra\, 31300\, Spain
ATTACH;FMTTYPE=image/jpeg:https://berdesia.com/wp-content/uploads/2018/07/IMG_8957.jpg
END:VEVENT
END:VCALENDAR